BEGIN:VCALENDAR
VERSION:2.0
PRODID:-//wp-events-plugin.com//6.4.7.2//EN
TZID:Europe/Berlin
X-WR-TIMEZONE:Europe/Berlin
BEGIN:VEVENT
UID:21@knudsenfesselestreit-trio.de
DTSTART;TZID=Europe/Berlin:20241027T110000
DTEND;TZID=Europe/Berlin:20241027T110000
DTSTAMP:20250105T210232Z
URL:https://knudsenfesselestreit-trio.de/events/theaterei-herrlingen-frank
 -frei-mit-knudsen-fessele-streit-trio-1100-uhr/
SUMMARY:So\, 27.10.24 Theaterei Herrlingen\, "Frank & Frei mit Knudsen Fess
 ele Streit Trio"
DESCRIPTION:
END:VEVENT
BEGIN:VTIMEZONE
TZID:Europe/Berlin
X-LIC-LOCATION:Europe/Berlin
BEGIN:STANDARD
DTSTART:20241027T020000
TZOFFSETFROM:+0200
TZOFFSETTO:+0100
TZNAME:CET
END:STANDARD
END:VTIMEZONE
END:VCALENDAR