BEGIN:VCALENDAR
VERSION:2.0
PRODID:-//wp-events-plugin.com//6.4.7.2//EN
TZID:Europe/Berlin
X-WR-TIMEZONE:Europe/Berlin
BEGIN:VEVENT
UID:41@knudsenfesselestreit-trio.de
DTSTART;TZID=Europe/Berlin:20260628T110000
DTEND;TZID=Europe/Berlin:20260628T130000
DTSTAMP:20260125T184706Z
URL:https://knudsenfesselestreit-trio.de/events/so-28-juni-2026-1100-uhr-k
 onzert-zeltlounge-ulmer-zelt/
SUMMARY:So\, 28. Juni 2026\, 11:00 Uhr\, Konzert ZeltLounge / Ulmer Zelt
DESCRIPTION:
END:VEVENT
BEGIN:VTIMEZONE
TZID:Europe/Berlin
X-LIC-LOCATION:Europe/Berlin
BEGIN:DAYLIGHT
DTSTART:20260329T030000
TZOFFSETFROM:+0100
TZOFFSETTO:+0200
TZNAME:CEST
END:DAYLIGHT
END:VTIMEZONE
END:VCALENDAR