BEGIN:VCALENDAR
VERSION:2.0
PRODID:-//wp-events-plugin.com//6.4.7.2//EN
TZID:Europe/Berlin
X-WR-TIMEZONE:Europe/Berlin
BEGIN:VEVENT
UID:40@knudsenfesselestreit-trio.de
DTSTART;TZID=Europe/Berlin:20260322T110000
DTEND;TZID=Europe/Berlin:20260322T123000
DTSTAMP:20260108T122400Z
URL:https://knudsenfesselestreit-trio.de/events/so-22-marz-2026-1100-uhr-m
 atinee-frank-und-frei-theaterei-herrlingen/
SUMMARY:So\, 22. März 2026\, 11:00 Uhr\, Matinee Frank und Frei\, Theatere
 i Herrlingen
DESCRIPTION:https://theaterei.de/veranstaltung/frank-und-frei-mit-knudsenfe
 sselestreit-trio/
END:VEVENT
BEGIN:VTIMEZONE
TZID:Europe/Berlin
X-LIC-LOCATION:Europe/Berlin
BEGIN:STANDARD
DTSTART:20251026T020000
TZOFFSETFROM:+0200
TZOFFSETTO:+0100
TZNAME:CET
END:STANDARD
END:VTIMEZONE
END:VCALENDAR