BEGIN:VCALENDAR
VERSION:2.0
PRODID:-//wp-events-plugin.com//6.4.7.2//EN
TZID:Europe/Berlin
X-WR-TIMEZONE:Europe/Berlin
BEGIN:VEVENT
UID:35@knudsenfesselestreit-trio.de
DTSTART;TZID=Europe/Berlin:20260118T170000
DTEND;TZID=Europe/Berlin:20260118T200000
DTSTAMP:20251004T170621Z
URL:https://knudsenfesselestreit-trio.de/events/so-18-januar-2026-17-00-uh
 r-aktion-100-000-konzert-galerie-der-swp/
SUMMARY:So\, 18. Januar 2026\, 17.00 Uhr\, Aktion 100.000-Konzert\, Galerie
  der SWP
DESCRIPTION:
END:VEVENT
BEGIN:VTIMEZONE
TZID:Europe/Berlin
X-LIC-LOCATION:Europe/Berlin
BEGIN:STANDARD
DTSTART:20251026T020000
TZOFFSETFROM:+0200
TZOFFSETTO:+0100
TZNAME:CET
END:STANDARD
END:VTIMEZONE
END:VCALENDAR