BEGIN:VCALENDAR
VERSION:2.0
PRODID:-//wp-events-plugin.com//6.4.7.2//EN
TZID:Europe/Berlin
X-WR-TIMEZONE:Europe/Berlin
BEGIN:VEVENT
UID:36@knudsenfesselestreit-trio.de
DTSTART;TZID=Europe/Berlin:20260307T173000
DTEND;TZID=Europe/Berlin:20260307T213000
DTSTAMP:20260108T120418Z
URL:https://knudsenfesselestreit-trio.de/events/sa-7-marz-2026-vorauss-17-
 30-uhr-frauenfest-zum-internationalen-frauentag-club-orange-vh-ulm/
SUMMARY:Sa\, 7. März 2026\, vorauss. 17.30 Uhr\, Frauenfest zum Internatio
 nalen Frauentag\, Club Orange vh ulm
DESCRIPTION:
END:VEVENT
BEGIN:VTIMEZONE
TZID:Europe/Berlin
X-LIC-LOCATION:Europe/Berlin
BEGIN:STANDARD
DTSTART:20251026T020000
TZOFFSETFROM:+0200
TZOFFSETTO:+0100
TZNAME:CET
END:STANDARD
END:VTIMEZONE
END:VCALENDAR