BEGIN:VCALENDAR
VERSION:2.0
PRODID:-//wp-events-plugin.com//6.4.7.2//EN
TZID:Europe/Berlin
X-WR-TIMEZONE:Europe/Berlin
BEGIN:VEVENT
UID:34@knudsenfesselestreit-trio.de
DTSTART;TZID=Europe/Berlin:20251206T193000
DTEND;TZID=Europe/Berlin:20251206T220000
DTSTAMP:20250901T125815Z
URL:https://knudsenfesselestreit-trio.de/events/sa-6-dezember-2025-1930-uh
 r-weihnachtskonzert-jazztime-ravensburg-e-v/
SUMMARY:Sa\, 6. Dezember 2025\, 19:30 Uhr\, Weihnachtskonzert\, Jazztime Ra
 vensburg e.V.
DESCRIPTION:NIKOLAUS JAZZ - Doppelkonzert\nNOSA &amp\; BAND (D) + KNUDSEN-F
 ESSELE-STREIT TRIO (DK/D)\nhttps://www.jazztime-ravensburg.de/index.php/cl
 ubprogramm/06_nikolaus-jazz-2025
END:VEVENT
BEGIN:VTIMEZONE
TZID:Europe/Berlin
X-LIC-LOCATION:Europe/Berlin
BEGIN:STANDARD
DTSTART:20251026T020000
TZOFFSETFROM:+0200
TZOFFSETTO:+0100
TZNAME:CET
END:STANDARD
END:VTIMEZONE
END:VCALENDAR