BEGIN:VCALENDAR
VERSION:2.0
PRODID:-//wp-events-plugin.com//6.4.7.2//EN
TZID:Europe/Berlin
X-WR-TIMEZONE:Europe/Berlin
BEGIN:VEVENT
UID:28@knudsenfesselestreit-trio.de
DTSTART;TZID=Europe/Berlin:20241221T190000
DTEND;TZID=Europe/Berlin:20241221T190000
DTSTAMP:20250106T144641Z
URL:https://knudsenfesselestreit-trio.de/events/sa-21-12-24-1900-uhr-weihn
 achtskonzert-kulturplattform-laupheim/
SUMMARY:Sa\, 21.12.24\, 19:00 Uhr\, Weihnachtskonzert\, Kulturplattform Lau
 pheim
DESCRIPTION:
END:VEVENT
BEGIN:VTIMEZONE
TZID:Europe/Berlin
X-LIC-LOCATION:Europe/Berlin
BEGIN:STANDARD
DTSTART:20241027T020000
TZOFFSETFROM:+0200
TZOFFSETTO:+0100
TZNAME:CET
END:STANDARD
END:VTIMEZONE
END:VCALENDAR