BEGIN:VCALENDAR
VERSION:2.0
PRODID:-//wp-events-plugin.com//6.4.7.2//EN
TZID:Europe/Berlin
X-WR-TIMEZONE:Europe/Berlin
BEGIN:VEVENT
UID:30@knudsenfesselestreit-trio.de
DTSTART;TZID=Europe/Berlin:20250920T200000
DTEND;TZID=Europe/Berlin:20250920T200000
DTSTAMP:20250831T104239Z
URL:https://knudsenfesselestreit-trio.de/events/sa-20-september-2025-2000-
 uhr-kulturnacht-ulm-neu-ulm-stadthaus-ulm/
SUMMARY:Sa\, 20. September 2025\, 20:00 Uhr\, Kulturnacht Ulm/Neu-Ulm\, Sta
 dthaus Ulm
DESCRIPTION:
END:VEVENT
BEGIN:VTIMEZONE
TZID:Europe/Berlin
X-LIC-LOCATION:Europe/Berlin
BEGIN:DAYLIGHT
DTSTART:20250330T030000
TZOFFSETFROM:+0100
TZOFFSETTO:+0200
TZNAME:CEST
END:DAYLIGHT
END:VTIMEZONE
END:VCALENDAR