BEGIN:VCALENDAR
VERSION:2.0
PRODID:-//wp-events-plugin.com//6.4.7.2//EN
TZID:Europe/Berlin
X-WR-TIMEZONE:Europe/Berlin
BEGIN:VEVENT
UID:39@knudsenfesselestreit-trio.de
DTSTART;TZID=Europe/Berlin:20260418T200000
DTEND;TZID=Europe/Berlin:20260418T220000
DTSTAMP:20260414T094009Z
URL:https://knudsenfesselestreit-trio.de/events/sa-18-april-2026-vorauss-2
 000-uhr-konzert-im-zehntstadel-gottingen-langenau/
SUMMARY:Sa\, 18. April 2026\, 20:00 Uhr\, Konzert im Zehntstadel Göttingen
 -Langenau
DESCRIPTION:Tickets:\n\nhttps://www.langenau.de/de/Erleben/Kultur/Zehntstad
 el/Veranstaltung?view=publish&amp\;item=eventDate&amp\;id=7300
END:VEVENT
BEGIN:VTIMEZONE
TZID:Europe/Berlin
X-LIC-LOCATION:Europe/Berlin
BEGIN:DAYLIGHT
DTSTART:20260329T030000
TZOFFSETFROM:+0100
TZOFFSETTO:+0200
TZNAME:CEST
END:DAYLIGHT
END:VTIMEZONE
END:VCALENDAR