BEGIN:VCALENDAR
VERSION:2.0
PRODID:-//wp-events-plugin.com//6.4.7.2//EN
TZID:Europe/Berlin
X-WR-TIMEZONE:Europe/Berlin
BEGIN:VEVENT
UID:10@knudsenfesselestreit-trio.de
DTSTART;TZID=Europe/Berlin:20240921T200000
DTEND;TZID=Europe/Berlin:20240921T234500
DTSTAMP:20250105T210353Z
URL:https://knudsenfesselestreit-trio.de/events/kulturnacht-ulm-neu-ulm-st
 adthaus-ulm-20-uhr/
SUMMARY:Sa\, 21.09.24\, 20:00 Uhr\, Kulturnacht Ulm/Neu-Ulm\, Stadthaus Ulm
DESCRIPTION:
END:VEVENT
BEGIN:VTIMEZONE
TZID:Europe/Berlin
X-LIC-LOCATION:Europe/Berlin
BEGIN:DAYLIGHT
DTSTART:20240331T030000
TZOFFSETFROM:+0100
TZOFFSETTO:+0200
TZNAME:CEST
END:DAYLIGHT
END:VTIMEZONE
END:VCALENDAR