BEGIN:VCALENDAR
VERSION:2.0
PRODID:-//wp-events-plugin.com//6.4.7.2//EN
TZID:Europe/Berlin
X-WR-TIMEZONE:Europe/Berlin
BEGIN:VEVENT
UID:22@knudsenfesselestreit-trio.de
DTSTART;TZID=Europe/Berlin:20241120T160000
DTEND;TZID=Europe/Berlin:20241120T160000
DTSTAMP:20250105T210002Z
URL:https://knudsenfesselestreit-trio.de/events/knudsen-fessele-streit-tri
 o-40-jahre-rku-ccu-ulm/
SUMMARY:Mi\, 20.11.24\, 16:00 Uhr\, "40 Jahre RKU"\, CCU Ulm
DESCRIPTION:
END:VEVENT
BEGIN:VTIMEZONE
TZID:Europe/Berlin
X-LIC-LOCATION:Europe/Berlin
BEGIN:STANDARD
DTSTART:20241027T020000
TZOFFSETFROM:+0200
TZOFFSETTO:+0100
TZNAME:CET
END:STANDARD
END:VTIMEZONE
END:VCALENDAR