BEGIN:VCALENDAR
VERSION:2.0
PRODID:-//wp-events-plugin.com//6.4.7.2//EN
TZID:Europe/Berlin
X-WR-TIMEZONE:Europe/Berlin
BEGIN:VEVENT
UID:18@knudsenfesselestreit-trio.de
DTSTART;TZID=Europe/Berlin:20241212T170000
DTEND;TZID=Europe/Berlin:20241212T170000
DTSTAMP:20250105T205726Z
URL:https://knudsenfesselestreit-trio.de/events/ihk-best-of-kulturhaus-lau
 pheim-1700/
SUMMARY:Do\, 12.12.24\, IHK ULM "Best Of"\, Kulturhaus Laupheim
DESCRIPTION:
END:VEVENT
BEGIN:VTIMEZONE
TZID:Europe/Berlin
X-LIC-LOCATION:Europe/Berlin
BEGIN:STANDARD
DTSTART:20241027T020000
TZOFFSETFROM:+0200
TZOFFSETTO:+0100
TZNAME:CET
END:STANDARD
END:VTIMEZONE
END:VCALENDAR