BEGIN:VCALENDAR
VERSION:2.0
PRODID:-//wp-events-plugin.com//6.4.7.2//EN
TZID:Europe/Berlin
X-WR-TIMEZONE:Europe/Berlin
BEGIN:VEVENT
UID:43@knudsenfesselestreit-trio.de
DTSTART;TZID=Europe/Berlin:20260522T190000
DTEND;TZID=Europe/Berlin:20260522T210000
DTSTAMP:20260414T093056Z
URL:https://knudsenfesselestreit-trio.de/events/fr-22-mai-2026-1900-uhr-ko
 nzert-bibliothekssaal-wiblingen-mitten-ins-herz-e-v/
SUMMARY:Fr.\, 22. Mai 2026\, 19:00 Uhr - Konzert Bibliothekssaal Wiblingen\
 , "Mitten ins Herz e.V"
DESCRIPTION:Beginn: 19:00 Uhr / Einlass: 18:00 Uhr\n\nTickets: willkommen@m
 itten-ins-herz-ev.de
END:VEVENT
BEGIN:VTIMEZONE
TZID:Europe/Berlin
X-LIC-LOCATION:Europe/Berlin
BEGIN:DAYLIGHT
DTSTART:20260329T030000
TZOFFSETFROM:+0100
TZOFFSETTO:+0200
TZNAME:CEST
END:DAYLIGHT
END:VTIMEZONE
END:VCALENDAR