BEGIN:VCALENDAR
VERSION:2.0
PRODID:-//wp-events-plugin.com//6.4.7.2//EN
TZID:Europe/Berlin
X-WR-TIMEZONE:Europe/Berlin
BEGIN:VEVENT
UID:37@knudsenfesselestreit-trio.de
DTSTART;TZID=Europe/Berlin:20260116T180000
DTEND;TZID=Europe/Berlin:20260116T220000
DTSTAMP:20260108T120322Z
URL:https://knudsenfesselestreit-trio.de/events/fr-16-januar-2026-18-00-uh
 r-neueroffnung-blumen-stielecht-ulm/
SUMMARY:Fr\, 16. Januar 2026\, 18.00 Uhr\, Neueröffnung Blumen Stielecht\,
  Ulm
DESCRIPTION:Wo: In den Räumen des ehemaligen Sportgeschäfts Sport Klamser
  in der Frauenstrasse in Ulm.
END:VEVENT
BEGIN:VTIMEZONE
TZID:Europe/Berlin
X-LIC-LOCATION:Europe/Berlin
BEGIN:STANDARD
DTSTART:20251026T020000
TZOFFSETFROM:+0200
TZOFFSETTO:+0100
TZNAME:CET
END:STANDARD
END:VTIMEZONE
END:VCALENDAR