BEGIN:VCALENDAR
VERSION:2.0
PRODID:-//wp-events-plugin.com//6.4.7.2//EN
TZID:Europe/Berlin
X-WR-TIMEZONE:Europe/Berlin
BEGIN:VEVENT
UID:31@knudsenfesselestreit-trio.de
DTSTART;TZID=Europe/Berlin:20251130T140000
DTEND;TZID=Europe/Berlin:20251130T160000
DTSTAMP:20250831T104254Z
URL:https://knudsenfesselestreit-trio.de/events/30-11-25-1400-uhr-weihnach
 tskonzert-aegis-cafe-ulm/
SUMMARY:So\, 30. November 2025\, 14:00 Uhr\, Weihnachtskonzert\, Aegis Cafe
  Ulm
DESCRIPTION:
END:VEVENT
BEGIN:VTIMEZONE
TZID:Europe/Berlin
X-LIC-LOCATION:Europe/Berlin
BEGIN:STANDARD
DTSTART:20251026T020000
TZOFFSETFROM:+0200
TZOFFSETTO:+0100
TZNAME:CET
END:STANDARD
END:VTIMEZONE
END:VCALENDAR